BEGIN:VCALENDAR
VERSION:2.0
PRODID:-//wp-events-plugin.com//7.2.3.1//EN
BEGIN:VEVENT
UID:24@flowable-uden.nl
DTSTART:20241019T140000Z
DTEND:20241019T160000Z
DTSTAMP:20240913T185522Z
URL:https://flowable-uden.nl/events/je-hart-aan-het-woord/
SUMMARY:Je hart aan het woord - Karin van Zutphen-Comperen
DESCRIPTION:Een cryptische titel die je bijna letterlijk mag nemen. In deze
  workshop lopen we het hartlabyrint en gaan we schrijven.\n\nHeb je vragen
  of hartenwensen? Wil je een diepere connectie voelen met je hart? Zoek je
  een andere vorm van mediteren\, dan stilzitten? Ontmoet jezelf dan in het
  labyrint. In een labyrint loop je een pad waarbij je naar binnen gaat. He
 t lijkt een doolhof\, maar dat is het niet. Het pad van een labyrint kent 
 één weg die met wendingen naar een centrum gaat. Je hoeft geen afslagen 
 te kiezen\, het pad loopt niet dood. Je hoeft hierin je weg niet te vinden
 \, maar je gewoon te gaan. Na de labyrintloop gaan we (flow)schrijven. Net
  zoals je voeten het pad ín het labyrint volgden\, volgt je pen het papie
 r. Hierin is je hart aan het woord.\n\nVoor deze workshop hoef je niet ‘
 goed’ of ‘creatief’ te kunnen schrijven. Je volgt gewoon je gevoel. 
 Zelfs wanneer jouw schrijven een paar woorden is\, is het al goed. Je hoef
 t alleen maar open te staan voor wat in jou naar boven borrelt en zomaar o
 p je papier verschijnt. Schrijven is een manier om je gedachten te ordenen
  en je diepe gevoelens te ontdekken. Hoe licht of donker ook\, op papier k
 un je ze verwerken\, transformeren\, vormen\, liefhebben.\n\nTips:\nTijden
 s de workshop schrijven we ‘old school’\, dus neem je mooiste schrijfb
 oekje mee en je fijnste pen. Fijne sokken of sloffen zijn aan te raden.\n\
 nMijn vloeiend hart\nOp reis naar binnen\nEen verkenningstocht naar het li
 cht in de diepte\nWord ik geprezen\, geholpen\, de weg gewezen\nBijgeschen
 en door de liefde\nVan mijn vloeiend hart\n\nIk schrijf mijn reis\, mijn v
 raag\, mijn gevoel\nIk schrijf mijn liefde naar mij toe\nVanuit de diepte 
 in mijn vloeiend hart.\n\n\n\nKarin noemt zich ‘innerlijk communicatiesp
 ecialist’. Op haar 12de ontdekte ze bewust dat er meer moet zijn tussen 
 hemel en aarde. Dat inzicht onthulde diep van binnen een waarheid die iets
  openbrak wat maakte dat ze begon met schrijven. Ze ontdekte dat ze zichze
 lf ruimte kon geven tijdens het schrijven. Dat haar creativiteit opborreld
 e. Dat schrijven haar in het leven met twee voeten op de grond kon houden.
  Ook in woelige tijden. Ze schrijft vooral voor haar plezier en bewustword
 ing en ze helpt anderen met teksten. Met haar achtergrond in onder andere 
 communicatie en stresscounselling heeft ze ontdekt dat haar passie vooral 
 ligt in anderen de ruimte bieden zichzelf te ervaren. Heb je dingen op een
  rijtje te zetten? Zoek je motivatie? Zoek je ingangen om een stap te zett
 en? Alles wat je nodig hebt zit in je. Karin helpt je met enthousiasme om 
 deze vonkjes in jezelf te vinden. Ze gebruikt diverse werkvormen\, zoals h
 et gesprek\, schrijfoefeningen en labyrinten.
CATEGORIES:Flowafest herfst 2024
END:VEVENT
END:VCALENDAR