BEGIN:VCALENDAR
VERSION:2.0
PRODID:-//wp-events-plugin.com//7.2.3.1//EN
BEGIN:VEVENT
UID:30@flowable-uden.nl
DTSTART:20241020T100000Z
DTEND:20241020T120000Z
DTSTAMP:20240914T133928Z
URL:https://flowable-uden.nl/events/yogawandeling-yogable/
SUMMARY:Yogawandeling - Yogable
DESCRIPTION:Inspirerende wandeling gecombineerd met yoga oefeningen voor ee
 n ontspannen begin van de dag.\n\n&nbsp\;\n\n&nbsp\;\n\n&nbsp\;\n\n&nbsp\;
 \n\n&nbsp\;\n\n&nbsp\;\nYogable staat voor pure mindful yoga voor alle lee
 ftijden. Hatha\, Yin en Yinflow yoga én lessen voor 55-plussers. Het is b
 eweging zonder prestatie &amp\; met bewustwording van jezelf. ‘Start met
  Yogable’ voor proeflessen. Meer informatie: www.yogable.nl
CATEGORIES:Flowafest herfst 2024
END:VEVENT
END:VCALENDAR